BEGIN:VCALENDAR
VERSION:2.0
PRODID:-//Hoboken Historical Museum - ECPv6.15.20//NONSGML v1.0//EN
CALSCALE:GREGORIAN
METHOD:PUBLISH
X-WR-CALNAME:Hoboken Historical Museum
X-ORIGINAL-URL:https://hobokenmuseum.org
X-WR-CALDESC:Events for Hoboken Historical Museum
REFRESH-INTERVAL;VALUE=DURATION:PT1H
X-Robots-Tag:noindex
X-PUBLISHED-TTL:PT1H
BEGIN:VTIMEZONE
TZID:America/New_York
BEGIN:DAYLIGHT
TZOFFSETFROM:-0500
TZOFFSETTO:-0400
TZNAME:EDT
DTSTART:20250309T070000
END:DAYLIGHT
BEGIN:STANDARD
TZOFFSETFROM:-0400
TZOFFSETTO:-0500
TZNAME:EST
DTSTART:20251102T060000
END:STANDARD
BEGIN:DAYLIGHT
TZOFFSETFROM:-0500
TZOFFSETTO:-0400
TZNAME:EDT
DTSTART:20260308T070000
END:DAYLIGHT
BEGIN:STANDARD
TZOFFSETFROM:-0400
TZOFFSETTO:-0500
TZNAME:EST
DTSTART:20261101T060000
END:STANDARD
BEGIN:DAYLIGHT
TZOFFSETFROM:-0500
TZOFFSETTO:-0400
TZNAME:EDT
DTSTART:20270314T070000
END:DAYLIGHT
BEGIN:STANDARD
TZOFFSETFROM:-0400
TZOFFSETTO:-0500
TZNAME:EST
DTSTART:20271107T060000
END:STANDARD
END:VTIMEZONE
BEGIN:VEVENT
DTSTART;TZID=America/New_York:20260423T100000
DTEND;TZID=America/New_York:20260423T120000
DTSTAMP:20260423T013042
CREATED:20260213T133259Z
LAST-MODIFIED:20260226T192911Z
UID:10003626-1776938400-1776945600@hobokenmuseum.org
SUMMARY:Weekly Arts & Crafts Class at the Museum
DESCRIPTION:Looking for a creative morning out? Join us every Thursday morning for a relaxed\, creative drop-in arts & crafts session designed especially for our youngest visitors. Led by Ms. Lisa\, each week features a different simple craft inspired by history\, art\, or the season. \nCrafts take about 15–20 minutes to complete\, so families are welcome to arrive anytime between 10:00 AM and 12:00 PM and work at their own pace. During the colder months\, activities are held inside the Museum; in warmer weather\, crafts move to the outdoor walkway. \nThis program is ideal for ages 1–3. Adult guidance\, participation\, and supervision are required\, as activities are hands-on and designed for young children with caregiver support. \n Every Thursday\n 10:00 AM – 12:00 PM (drop in anytime)\n New craft each week\n Best for ages 1–3\n Indoors in winter / Outdoor walkway in warmer months\n Free to attend ($5 donation encouraged) \nNo registration required—just stop by\, get creative\, and enjoy a playful morning at the museum! 
URL:https://hobokenmuseum.org/event/artscrafts/2026-04-23/
LOCATION:Hoboken Historical Museum\, 1301 Hudson St.\, Hoboken\, NJ\, 07030\, United States
CATEGORIES:Art Classes
ATTACH;FMTTYPE=image/jpeg:https://hobokenmuseum.org/wp-content/uploads/2026/02/Arts-and-Crafts.jpg
END:VEVENT
END:VCALENDAR