BEGIN:VCALENDAR
VERSION:2.0
PRODID:-//Hoboken Historical Museum - ECPv6.15.20//NONSGML v1.0//EN
CALSCALE:GREGORIAN
METHOD:PUBLISH
X-WR-CALNAME:Hoboken Historical Museum
X-ORIGINAL-URL:https://hobokenmuseum.org
X-WR-CALDESC:Events for Hoboken Historical Museum
REFRESH-INTERVAL;VALUE=DURATION:PT1H
X-Robots-Tag:noindex
X-PUBLISHED-TTL:PT1H
BEGIN:VTIMEZONE
TZID:America/New_York
BEGIN:DAYLIGHT
TZOFFSETFROM:-0500
TZOFFSETTO:-0400
TZNAME:EDT
DTSTART:20250309T070000
END:DAYLIGHT
BEGIN:STANDARD
TZOFFSETFROM:-0400
TZOFFSETTO:-0500
TZNAME:EST
DTSTART:20251102T060000
END:STANDARD
BEGIN:DAYLIGHT
TZOFFSETFROM:-0500
TZOFFSETTO:-0400
TZNAME:EDT
DTSTART:20260308T070000
END:DAYLIGHT
BEGIN:STANDARD
TZOFFSETFROM:-0400
TZOFFSETTO:-0500
TZNAME:EST
DTSTART:20261101T060000
END:STANDARD
BEGIN:DAYLIGHT
TZOFFSETFROM:-0500
TZOFFSETTO:-0400
TZNAME:EDT
DTSTART:20270314T070000
END:DAYLIGHT
BEGIN:STANDARD
TZOFFSETFROM:-0400
TZOFFSETTO:-0500
TZNAME:EST
DTSTART:20271107T060000
END:STANDARD
END:VTIMEZONE
BEGIN:VEVENT
DTSTART;TZID=America/New_York:20260423T100000
DTEND;TZID=America/New_York:20260423T120000
DTSTAMP:20260422T213407
CREATED:20260213T133259Z
LAST-MODIFIED:20260226T192911Z
UID:10003626-1776938400-1776945600@hobokenmuseum.org
SUMMARY:Weekly Arts & Crafts Class at the Museum
DESCRIPTION:Looking for a creative morning out? Join us every Thursday morning for a relaxed\, creative drop-in arts & crafts session designed especially for our youngest visitors. Led by Ms. Lisa\, each week features a different simple craft inspired by history\, art\, or the season. \nCrafts take about 15–20 minutes to complete\, so families are welcome to arrive anytime between 10:00 AM and 12:00 PM and work at their own pace. During the colder months\, activities are held inside the Museum; in warmer weather\, crafts move to the outdoor walkway. \nThis program is ideal for ages 1–3. Adult guidance\, participation\, and supervision are required\, as activities are hands-on and designed for young children with caregiver support. \n Every Thursday\n 10:00 AM – 12:00 PM (drop in anytime)\n New craft each week\n Best for ages 1–3\n Indoors in winter / Outdoor walkway in warmer months\n Free to attend ($5 donation encouraged) \nNo registration required—just stop by\, get creative\, and enjoy a playful morning at the museum! 
URL:https://hobokenmuseum.org/event/artscrafts/2026-04-23/
LOCATION:Hoboken Historical Museum\, 1301 Hudson St.\, Hoboken\, NJ\, 07030\, United States
CATEGORIES:Art Classes
ATTACH;FMTTYPE=image/jpeg:https://hobokenmuseum.org/wp-content/uploads/2026/02/Arts-and-Crafts.jpg
END:VEVENT
BEGIN:VEVENT
DTSTART;TZID=America/New_York:20260425T183000
DTEND;TZID=America/New_York:20260425T210000
DTSTAMP:20260422T213407
CREATED:20260403T220105Z
LAST-MODIFIED:20260403T220105Z
UID:10003692-1777141800-1777150800@hobokenmuseum.org
SUMMARY:Wings of Hope: an Earth Day Celebration with Jeff Train
DESCRIPTION:The Hoboken Historical Museum\, Thomas Edison Film Festival and Our Tern present Wings of Hope: an Earth Day Celebration with Jeff Train!  \nCelebrate grassroots environmental activism through the power of film and art as the Terns on Parade Upper Gallery exhibit draws to a close. \nThe program will include:\n🍷 a wine reception at 6:30 PM\n📽️ screenings of independent films: When Worlds Collide\, R.E.S.C.U.E.\, and The Pigeon Lady at 7 PM\n📣 a conversation with Jeff Train at 8 PM \nJoin us to learn about local bird protection efforts and support the cause by adopting a tern decoy\, print or photograph. \nWe are reminded of Margaret Mead’s famous quote\, “Never doubt that a small group of thoughtful committed individuals can change the world. In fact\, it’s the only thing that ever has.” \n🗓️ Saturday\, April 25th\n📍 Hoboken Historical Museum\n🎟️ Free admission
URL:https://hobokenmuseum.org/event/wings-of-hope-an-earth-day-celebration-with-jeff-train/
LOCATION:Hoboken Historical Museum\, 1301 Hudson St.\, Hoboken\, NJ\, 07030\, United States
CATEGORIES:Event,Featured
ATTACH;FMTTYPE=image/png:https://hobokenmuseum.org/wp-content/uploads/2026/04/Wings-of-Hope-SM-Image-YouTube-Thumbnail-1.png
END:VEVENT
BEGIN:VEVENT
DTSTART;TZID=America/New_York:20260501T190000
DTEND;TZID=America/New_York:20260501T200000
DTSTAMP:20260422T213407
CREATED:20260422T233153Z
LAST-MODIFIED:20260423T000103Z
UID:10003697-1777662000-1777665600@hobokenmuseum.org
SUMMARY:Artist Talk with Bill Curran
DESCRIPTION:Please join us virtually on Friday\, May 1st at 7PM when Bill Curran sits down with Wendy Wilson for a special Artist Talk! This online program will be broadcast on YouTube and Facebook. \nBill will be discussing the new Upper Gallery exhibit\, “Blooming Hoboken: New Paintings by Bill Curran\,” which opens on Saturday\, May 2nd from 2pm-5pm. This is Bill’s 6th show at the Museum.  \nTune in to learn more about the evolution of Bill’s work and his uplifting new exhibit!
URL:https://hobokenmuseum.org/event/artist-talk-with-bill-curran/
LOCATION:Hoboken Historical Museum\, 1301 Hudson St.\, Hoboken\, NJ\, 07030\, United States
CATEGORIES:Event,Featured
ATTACH;FMTTYPE=image/jpeg:https://hobokenmuseum.org/wp-content/uploads/2026/04/Bill-Curran-Artist-Talk.jpg
END:VEVENT
BEGIN:VEVENT
DTSTART;TZID=America/New_York:20260502T140000
DTEND;TZID=America/New_York:20260502T170000
DTSTAMP:20260422T213407
CREATED:20260422T223003Z
LAST-MODIFIED:20260422T223003Z
UID:10003695-1777730400-1777741200@hobokenmuseum.org
SUMMARY:Opening Reception for Bill Curran
DESCRIPTION:The Hoboken Historical Museum is over the moon to invite you to the opening reception of our next exhibit in the Upper Gallery\, “Blooming Hoboken: New Paintings by Bill Curran” on Saturday\, May 2nd from 2pm to 5pm! \nOur community recognizes Bill as our long-time Museum Manager. He greets everyone with a bright smile and an open heart. He makes the Museum feel like home to all with his welcoming spirit. \nOne of Bill’s most essential roles is as a dedicated visual artist and painter. Bill responds to the Muse – an inner voice that guides him to the easel. He creates because he must. \nThis exhibit captures Bill’s boundless optimism and hopeful approach to life. It is comprised of a selection of over 20 pieces that depict spring and summer views of Hoboken from Bill’s window and still life of flowers. He captures Hoboken in all of her glory as she awakens from winter. \nPlease join us to celebrate the launch of this new exhibit! \nSpecial thanks to the Hudson County Office of Cultural & Heritage Affairs/Tourism Development for supporting this exhibit. \n 
URL:https://hobokenmuseum.org/event/opening-reception-for-bill-curran/
LOCATION:Hoboken Historical Museum\, 1301 Hudson St.\, Hoboken\, NJ\, 07030\, United States
CATEGORIES:Event,Featured,Special Event
ATTACH;FMTTYPE=image/jpeg:https://hobokenmuseum.org/wp-content/uploads/2026/04/Bill-Curran-Opening.jpg
END:VEVENT
BEGIN:VEVENT
DTSTART;TZID=America/New_York:20260503T160000
DTEND;TZID=America/New_York:20260503T180000
DTSTAMP:20260422T213407
CREATED:20260320T152058Z
LAST-MODIFIED:20260413T170922Z
UID:10003683-1777824000-1777831200@hobokenmuseum.org
SUMMARY:On the Waterfront Talk with Lenny Luizzi
DESCRIPTION:The classic 1954 film On the Waterfront was not just set in Hoboken—it was deeply shaped by its people and places. Lenny Luizzi offers a unique perspective on its production\, sharing stories about the real-life longshoremen\, local extras\, and the impact of filming on the city. This discussion will examine how On the Waterfront immortalized Hoboken’s industrial past and became one of the most influential films in American cinema. \nLenny Luizzi is a lifelong resident and city historian. He worked for 30+ years in the film industry. Lenny is involved in the cultural and social landscape of Hoboken. Lenny was a member of the Historic Preservation Commission for 20 years from 1992-2012 and served as Vice Chair from 2002-2012. He was also a member of the New Jersey Historic Sites Council from 1996-1999. \nThis event is co-sponsored by the Hoboken Public Library and Hoboken Historical Museum.  \nThis is a lecture at the Hoboken Historical Museum. \nPlease register here!
URL:https://hobokenmuseum.org/event/on-the-waterfront-walking-tour-with-lenny-luizzi/
LOCATION:Hoboken Historical Museum\, 1301 Hudson St.\, Hoboken\, NJ\, 07030\, United States
CATEGORIES:Event,Featured
ATTACH;FMTTYPE=image/jpeg:https://hobokenmuseum.org/wp-content/uploads/2026/03/Lenny-Luizzi.jpg
END:VEVENT
BEGIN:VEVENT
DTSTART;TZID=America/New_York:20260505T183000
DTEND;TZID=America/New_York:20260505T200000
DTSTAMP:20260422T213407
CREATED:20260406T155417Z
LAST-MODIFIED:20260406T155417Z
UID:10003694-1778005800-1778011200@hobokenmuseum.org
SUMMARY:Clay Fortune Cookie Workshop
DESCRIPTION:Celebrate AAPI Heritage Month with a creative\, hands-on evening at the Hoboken Historical Museum!  \nJoin Atacama Clay Studio for a guided workshop where participants will craft their own ceramic clay fortune cookies\, inspired by traditional forms and contemporary ceramic art. \nIn this relaxed and welcoming session\, guests will learn basic hand-building techniques while shaping their own fortune cookie sculptures using 1.5 lbs of clay per person. After forming your pieces\, you’ll select from 3–4 glaze options (or a classic clear glaze)\, and Atacama Clay Studio will take the work back to their studio for professional glazing and kiln firing. Finished pieces will be returned to the Museum for pickup at a later date. \nWhat to Expect\n🎨 Hands-on clay workshop led by Atacama Clay Studio\n🥠 Create your own ceramic fortune cookies (two) using 1.5 lbs of clay\n🖌 Choose from multiple glaze options (glazing and firing included)\n🥂 BYOB with light refreshments provided\n🏛 A creative evening inside the Hoboken Historical Museum \nThis workshop is perfect for beginners and experienced makers alike—no prior clay experience is needed. Come solo or gather friends and enjoy a fun\, artistic way to celebrate AAPI Heritage Month through creativity and community.  \n📅 May 5\, 2026\n⏰ 6:30 PM – 8:00 PM\n📍 Hoboken Historical Museum\, 1301 Hudson Street\n🎟 $85 per person \nRegister here!
URL:https://hobokenmuseum.org/event/clay-fortune-cookie-workshop/
LOCATION:Hoboken Historical Museum\, 1301 Hudson St.\, Hoboken\, NJ\, 07030\, United States
CATEGORIES:Event,Featured
ATTACH;FMTTYPE=image/png:https://hobokenmuseum.org/wp-content/uploads/2026/04/Clay-Fortune-Cookie-Workshop-YouTube-Thumbnail.png
END:VEVENT
BEGIN:VEVENT
DTSTART;TZID=America/New_York:20260509T110000
DTEND;TZID=America/New_York:20260509T120000
DTSTAMP:20260422T213407
CREATED:20260131T233828Z
LAST-MODIFIED:20260226T193027Z
UID:10003663-1778324400-1778328000@hobokenmuseum.org
SUMMARY:Second Saturday Story Time & Crafts
DESCRIPTION:All are invited for the next session of Story Time & Crafts with “Hoboken Jack” Silbert and Bill Curran!  \nNo registration is (ever) required – please just show up for the warm sense of community and immense fun!!  \n🗓️ Every Second Saturday of the month\n⏰ 11 AM\n📍 Grand Street Library Branch\, 124 Grand Street\, 2nd floor
URL:https://hobokenmuseum.org/event/second-saturday-story-time-crafts/2026-05-09/
LOCATION:NJ
CATEGORIES:Art Classes,Storytime
ATTACH;FMTTYPE=image/jpeg:https://hobokenmuseum.org/wp-content/uploads/2026/01/Jack-April-Storytime.jpg
END:VEVENT
BEGIN:VEVENT
DTSTART;TZID=America/New_York:20260530T110000
DTEND;TZID=America/New_York:20260530T130000
DTSTAMP:20260422T213407
CREATED:20260422T231747Z
LAST-MODIFIED:20260422T232324Z
UID:10003696-1780138800-1780146000@hobokenmuseum.org
SUMMARY:Hoboken Memorial Day Parade
DESCRIPTION:One of Hoboken’s biggest moments of the year is almost here. \nOn May 30 at 11AM\, Washington Street (1st –> 11th) will come alive for the Memorial Day Semiquincentennial Parade\, celebrating 250 years of our nation’s history. \nExpect marching bands\, live performers\, floats\, veterans\, community groups\, and more — led by Grand Marshal Joe Truglio. \nIt’s a day to honor\, remember\, and celebrate together. Bring your family\, line the streets\, and be part of something truly special. \nInterested in volunteering? Reach out to Tara at tchand@hobokenmuseum.org.
URL:https://hobokenmuseum.org/event/hoboken-memorial-day-parade/
LOCATION:Hoboken Historical Museum\, 1301 Hudson St.\, Hoboken\, NJ\, 07030\, United States
CATEGORIES:Event,Featured
ATTACH;FMTTYPE=image/jpeg:https://hobokenmuseum.org/wp-content/uploads/2026/04/Memorial-Day-Parade.jpg
END:VEVENT
BEGIN:VEVENT
DTSTART;TZID=America/New_York:20260607T090000
DTEND;TZID=America/New_York:20260607T160000
DTSTAMP:20260422T213407
CREATED:20260216T180256Z
LAST-MODIFIED:20260408T162452Z
UID:10003672-1780822800-1780848000@hobokenmuseum.org
SUMMARY:Secret Gardens Tour
DESCRIPTION:ATTENTION Avid Gardeners: We Need Your Help!\nThe Hoboken Historical Museum is currently seeking private garden submissions for this year’s Secret Gardens Tour on Sunday\, June 7th\, 2026. \nWhether you have a lush backyard\, a creative patio\, or a rooftop oasis\, we want to showcase the diversity of Hoboken’s green thumbs. If you or someone you know would like to participate as a garden host\, please email Tara Chand at tchand@hobokenmuseum.org for more information. \n\nPartner With Us: Sponsorship Opportunities\nShow your support for Hoboken’s vibrant culture by becoming a sponsor of the 2026 Secret Gardens Tour. As one of the Museum’s most anticipated events\, your business will gain visibility among hundreds of local residents and visitors. Packages range from Friend support to Legacy Tour sponsorship\, all of which directly fund our exhibitions and educational programs. \nBecome a Sponsor \n\nSecret Garden Tour\nStep beyond the brownstones and discover Hoboken’s hidden green spaces on the Secret Garden Tour\, returning on Sunday\, June 7\, 2026\, from 9:00 AM to 4:00 PM. This beloved\, self-guided walking tour offers a rare opportunity to explore some of the city’s most enchanting private gardens—lush urban retreats\, thoughtfully designed courtyards\, and unexpected oases tucked behind Hoboken’s historic homes. \nThe tour celebrates creativity\, landscape design\, and the beauty of green spaces in an urban environment. Each participating garden offers its own distinctive character\, making this a day of inspiration for gardeners\, architecture lovers\, and anyone looking to experience Hoboken from a new perspective. \n🌿 What to Expect: \n\nExclusive access to a curated selection of private gardens\nA variety of garden styles\, from classic to contemporary\nA self-paced\, self-guided experience you can enjoy at your own pace\nA unique way to support the Hoboken Historical Museum\n\n🎟 Ticket Information: \n\n$40 Early Bird & Museum Members\n$50 Day-of Event\n\nAdvance ticket purchases are strongly encouraged\, as this popular annual fundraiser often sells out. \n🌧 Rain Date: Sunday\, June 14\, 2026 \nBuy a Ticket \n\nCheck-In Locations\nTo make your experience as smooth as possible\, we offer two convenient starting points. Guests may check in at either location beginning at 9:00 AM: \n🌿 Uptown Start\nHoboken Historical Museum\n1301 Hudson Street \n🌺 Downtown Start\nBoomerang Bites\n152 Newark Street \nChoose the location that best fits your plans and begin your self-guided tour from there. \n\nPlease Note:\n\n\nHeeled shoes are not permitted; please wear flat\, comfortable footwear. \n\n\nNot all garden locations are wheelchair accessible. \n\n\nCarriages and strollers are not permitted inside the gardens. \n\n\nJoin us for a day of discovery\, inspiration\, and community while supporting one of the Hoboken Historical Museum’s signature fundraising events. \n 
URL:https://hobokenmuseum.org/event/secret-gardens-tour-2026/
LOCATION:NJ
CATEGORIES:Event,Featured,Special Event
ATTACH;FMTTYPE=image/png:https://hobokenmuseum.org/wp-content/uploads/2026/02/2026-Garden-Tour-flowers.png
END:VEVENT
BEGIN:VEVENT
DTSTART;TZID=America/New_York:20260628T160000
DTEND;TZID=America/New_York:20260628T180000
DTSTAMP:20260422T213407
CREATED:20260320T153352Z
LAST-MODIFIED:20260320T153730Z
UID:10003684-1782662400-1782669600@hobokenmuseum.org
SUMMARY:The Great Ocean Liners of Hoboken with Bill Miller
DESCRIPTION:Renowned maritime historian Bill Miller\, known as “Mr. Ocean Liner\,” will take attendees on a voyage through Hoboken’s rich maritime history. From immigrant ships to wartime transport vessels\, Hoboken played a vital role in global travel and trade. Miller\, the author of numerous books on ocean liners and cruise ships\, will share captivating stories of the Holland America Line\, North German Lloyd\, and Hamburg America Line\, all of which had deep ties to Hoboken’s waterfront.
URL:https://hobokenmuseum.org/event/the-great-ocean-liners-of-hoboken-with-bill-miller/
LOCATION:Hoboken Historical Museum\, 1301 Hudson St.\, Hoboken\, NJ\, 07030\, United States
CATEGORIES:Event,Featured
ATTACH;FMTTYPE=image/jpeg:https://hobokenmuseum.org/wp-content/uploads/2026/03/Bill-Miller.jpg
END:VEVENT
BEGIN:VEVENT
DTSTART;TZID=America/New_York:20260712T160000
DTEND;TZID=America/New_York:20260712T180000
DTSTAMP:20260422T213407
CREATED:20260320T153919Z
LAST-MODIFIED:20260320T154439Z
UID:10003685-1783872000-1783879200@hobokenmuseum.org
SUMMARY:A Revolutionary War Era Musical Performance Presented by Anne and Ridley Enslow
DESCRIPTION:Anne and Ridley Enslow will conduct a special performance-lecture that brings the Revolutionary War era to life through music. Dressed in period costume and performing on authentic instruments such as the violin and hammered dulcimer\, the Enslows will share stirring liberty songs\, ballads\, and dance tunes that once echoed through colonial America. Blending performance with historical storytelling\, they will explore the role of music in Revolutionary culture and invite the audience to experience the spirit of the era in a vivid and unforgettable way.
URL:https://hobokenmuseum.org/event/a-revolutionary-war-era-musical-performance-presented-by-anne-and-ridley-enslow/
LOCATION:Hoboken Historical Museum\, 1301 Hudson St.\, Hoboken\, NJ\, 07030\, United States
CATEGORIES:Event,Featured
ATTACH;FMTTYPE=image/jpeg:https://hobokenmuseum.org/wp-content/uploads/2026/03/Anne-Ridley-Enslow-1.jpg
END:VEVENT
BEGIN:VEVENT
DTSTART;TZID=America/New_York:20260816T160000
DTEND;TZID=America/New_York:20260816T180000
DTSTAMP:20260422T213407
CREATED:20260320T155052Z
LAST-MODIFIED:20260320T155508Z
UID:10003686-1786896000-1786903200@hobokenmuseum.org
SUMMARY:Sacred Spaces: The Architecture of Hoboken’s Historic Churches with John Gomez
DESCRIPTION:Architectural historian John Gomez will explore the rich architectural history of Hoboken’s sacred spaces in this engaging lecture on the city’s historic churches. From grand Gothic Revival structures to more modest parish buildings\, Hoboken’s houses of worship reflect the diverse communities that shaped the city’s development. Gomez will examine how architectural styles\, materials\, and design choices conveyed meaning\, identity\, and tradition within these sacred spaces. The talk will highlight notable churches throughout Hoboken\, offering insight into their history\, craftsmanship\, and the role they have played in neighborhood life. Through images and historical context\, attendees will gain a deeper appreciation for the architectural and cultural significance of these enduring landmarks.
URL:https://hobokenmuseum.org/event/sacred-spaces-the-architecture-of-hobokens-historic-churches-with-john-gomez/
LOCATION:Hoboken Historical Museum\, 1301 Hudson St.\, Hoboken\, NJ\, 07030\, United States
CATEGORIES:Event,Featured
ATTACH;FMTTYPE=image/png:https://hobokenmuseum.org/wp-content/uploads/2026/03/John-Gomez.png
END:VEVENT
BEGIN:VEVENT
DTSTART;TZID=America/New_York:20260913T160000
DTEND;TZID=America/New_York:20260913T180000
DTSTAMP:20260422T213407
CREATED:20260320T155620Z
LAST-MODIFIED:20260320T160111Z
UID:10003687-1789315200-1789322400@hobokenmuseum.org
SUMMARY:Exploring Hoboken’s Architecture with Ana Sanchez
DESCRIPTION:Architect and historic preservationist Ana Sanchez\, AIA\, explores the diverse 19th century architectural styles that define Hoboken. With extensive experience in restoring row houses and mitigating flood damage post-Hurricane Sandy\, she brings a deep understanding of Hoboken’s built environment. This lecture will highlight the city’s public buildings\, and residential streetscapes—from worker housing and cold-water flats to grand single-family homes. Attendees will gain insight into the architectural heritage that has shaped Hoboken over the centuries.
URL:https://hobokenmuseum.org/event/exploring-hobokens-architecture-with-ana-sanchez/
LOCATION:Hoboken Historical Museum\, 1301 Hudson St.\, Hoboken\, NJ\, 07030\, United States
CATEGORIES:Event,Featured
ATTACH;FMTTYPE=image/jpeg:https://hobokenmuseum.org/wp-content/uploads/2026/03/Ana-Sanchez.jpg
END:VEVENT
BEGIN:VEVENT
DTSTART;TZID=America/New_York:20260920T090000
DTEND;TZID=America/New_York:20260920T150000
DTSTAMP:20260422T213407
CREATED:20260313T194458Z
LAST-MODIFIED:20260318T200939Z
UID:10003682-1789894800-1789916400@hobokenmuseum.org
SUMMARY:Hoboken Coffee Crawl
DESCRIPTION:Introducing the First-Ever Hoboken Coffee Crawl! \nWe’re thrilled to announce a brand-new citywide event from the Hoboken Historical Museum — the Hoboken Coffee Crawl\, happening Sunday\, September 20\, 2026 from 9:00am–3:00pm. \nSpend a fall Sunday sipping\, strolling\, and discovering Hoboken one cup at a time. This self-guided tasting experience invites you to explore the city at your own pace while visiting cafés across town sampling creative coffee flavors and treats. \nCoffee has long been woven into Hoboken’s story — from historic neighborhood cafés to today’s incredible independent coffee shops that fuel daily life in our community. The Coffee Crawl celebrates that tradition while bringing neighbors together and supporting local businesses throughout the city. \nEven better? 100% of proceeds support the Hoboken Historical Museum’s exhibitions\, education initiatives\, and community programming. \n🎟 Tickets are now available here! \nVIP guests will also enjoy special perks including an espresso martini from our partner @living_room_bar and more! \nParticipating Cafés: \nAlessio’s Cafe\nAlfalfa\nBean Vault Coffee\nBlack Rail Coffee\nBlue Angel Cafe & Bakery\nBoomerang Bites\nBwé Cafe\nCafe Cartel\nCafe Tati\nCaña Coffee & Bakery\nCowabunga Coffee\nEmpire Coffee & Tea\nHaraz Coffee House\nHey Coffee People\nHidden Grounds\nJefferson’s Coffee\nJoboken Cafe\nJulietta’s Gelato & Cafe\nLittle Mingo Cafe\nMile Square Cafe\nModcup Coffee\nOtok Bakery\nPrato Bakery\nThe Little Grocery\nToastique\nTwo Crepes (Pop-Up at Museum Check-In) \nA special thank you to our partners @two_crepes\, @getgraza\, and @living_room_bar for helping bring the first-ever Hoboken Coffee Crawl to life! ✨ \nGrab your walking shoes and get ready to experience Hoboken — one sip at a time. ☕
URL:https://hobokenmuseum.org/event/hoboken-coffee-crawl/
LOCATION:Hoboken Historical Museum\, 1301 Hudson St.\, Hoboken\, NJ\, 07030\, United States
CATEGORIES:Event,Featured
ATTACH;FMTTYPE=image/png:https://hobokenmuseum.org/wp-content/uploads/2026/03/Coffee-Crawl-1920x1080-1.png
END:VEVENT
BEGIN:VEVENT
DTSTART;TZID=America/New_York:20261025T160000
DTEND;TZID=America/New_York:20261025T180000
DTSTAMP:20260422T213407
CREATED:20260320T160350Z
LAST-MODIFIED:20260320T160829Z
UID:10003688-1792944000-1792951200@hobokenmuseum.org
SUMMARY:Elysian Fields and Early Baseball with Irwin Chusid
DESCRIPTION:Journalist and historian Irwin Chusid\, a leading expert on 19th-century baseball\, will explore the legendary history of Hoboken’s Elysian Fields. This iconic site is considered one of the birthplaces of modern baseball\, hosting some of the earliest recorded games. Chusid\, who has lectured at the National Baseball Hall of Fame\, will share his extensive research and insights into how Hoboken helped shape America’s pastime.
URL:https://hobokenmuseum.org/event/elysian-fields-and-early-baseball-with-irwin-chusid/
LOCATION:Hoboken Historical Museum\, 1301 Hudson St.\, Hoboken\, NJ\, 07030\, United States
CATEGORIES:Event,Featured
ATTACH;FMTTYPE=image/jpeg:https://hobokenmuseum.org/wp-content/uploads/2026/03/Irwin-Chusid.jpg
END:VEVENT
BEGIN:VEVENT
DTSTART;TZID=America/New_York:20261108T160000
DTEND;TZID=America/New_York:20261108T180000
DTSTAMP:20260422T213407
CREATED:20260320T161001Z
LAST-MODIFIED:20260320T162549Z
UID:10003689-1794153600-1794160800@hobokenmuseum.org
SUMMARY:The History of Applied Companies with Joe Barry
DESCRIPTION:Real estate developer Joseph Barry co-founded Applied Housing\, a company that played a key role in revitalizing Hoboken in the 1970s. Unlike large-scale demolition and redevelopment\, Applied focused on rehabilitating existing buildings into affordable housing\, which helped stabilize the community. Barry will discuss how his company\, alongside federal initiatives like the Model Cities program\, contributed to Hoboken’s resurgence during a time of economic struggle\, and the long-term impact of these efforts on the city’s growth.
URL:https://hobokenmuseum.org/event/the-history-of-applied-companies-with-joe-barry/
LOCATION:Hoboken Historical Museum\, 1301 Hudson St.\, Hoboken\, NJ\, 07030\, United States
CATEGORIES:Event,Featured
ATTACH;FMTTYPE=image/jpeg:https://hobokenmuseum.org/wp-content/uploads/2026/03/Joe-Barry.jpg
END:VEVENT
BEGIN:VEVENT
DTSTART;TZID=America/New_York:20261213T160000
DTEND;TZID=America/New_York:20261213T180000
DTSTAMP:20260422T213407
CREATED:20260320T161408Z
LAST-MODIFIED:20260320T161819Z
UID:10003690-1797177600-1797184800@hobokenmuseum.org
SUMMARY:How Hoboken Celebrated the Bicentennial with Bob Foster
DESCRIPTION:Robert Foster\, Executive Director of the Hoboken Historical Museum\, has been instrumental in preserving and sharing the city’s history for nearly three decades. In this lecture\, he will reflect on how Hoboken marked America’s Bicentennial in 1976\, offering a glimpse into the city’s commemorative events\, community involvement\, and historical initiatives. Through rare photos\, film\, and stories\, Foster will examine how the nation’s 200th anniversary was celebrated in Hoboken and how it helped shape the city’s cultural identity.
URL:https://hobokenmuseum.org/event/how-hoboken-celebrated-the-bicentennial-with-bob-foster/
LOCATION:Hoboken Historical Museum\, 1301 Hudson St.\, Hoboken\, NJ\, 07030\, United States
CATEGORIES:Event,Featured
ATTACH;FMTTYPE=image/jpeg:https://hobokenmuseum.org/wp-content/uploads/2026/03/Bob-Foster.jpg
END:VEVENT
END:VCALENDAR